BEGIN:VCALENDAR
PRODID:-//eluceo/ical//2.0/EN
VERSION:2.0
CALSCALE:GREGORIAN
BEGIN:VEVENT
UID:fd00aab0-cd20-40b6-80e4-30a1611e0566
DTSTAMP:20260420T011707Z
SUMMARY:Foro Europeo de Sevilla. ”Encuentro Andalucía-Guatemala: Desarro
 llo local” (Campus EOI Sevilla)
URL:https://www.eoi.es/es/eventos/83425/foro-europeo-de-sevilla-encuentro-a
 ndalucia-guatemala-desarrollo-local-campus-eoi-sevilla
DTSTART:20110222T180000Z
DTEND:20110222T200000Z
LOCATION:Campus EOI Sevilla. C/ Leonardo da Vinci\, 12. Isla de la Cartuja.
  Sevilla
END:VEVENT
END:VCALENDAR
