BEGIN:VCALENDAR
PRODID:-//eluceo/ical//2.0/EN
VERSION:2.0
CALSCALE:GREGORIAN
BEGIN:VEVENT
UID:957738d1-69cc-4721-a47f-c185c7a2a0c1
DTSTAMP:20260422T092245Z
SUMMARY:Escuchar lo libre - Segunda convocatoria (plazo del 7 al 25 febrero
 )
URL:https://www.eoi.es/es/eventos/83417/escuchar-lo-libre-segunda-convocato
 ria-plazo-del-7-al-25-febrero
DTSTART:20110225T090000Z
DTEND:20110225T110000Z
LOCATION:Campus EOI Madrid. Avda. Gregorio del Amo\, 6. 28040 Madrid
END:VEVENT
END:VCALENDAR
