BEGIN:VCALENDAR
PRODID:-//eluceo/ical//2.0/EN
VERSION:2.0
CALSCALE:GREGORIAN
BEGIN:VEVENT
UID:5e5bbdcb-75bb-4073-9b58-48a07d6906c0
DTSTAMP:20260420T011651Z
SUMMARY:Taller de Teatro Club EOI (Campus EOI Sevilla)
URL:https://www.eoi.es/es/eventos/83405/taller-de-teatro-club-eoi-campus-eo
 i-sevilla
DTSTART:20110305T100000Z
DTEND:20110305T120000Z
LOCATION:Campus EOI Sevilla. C/ Leonardo da Vinci\, 12. Isla de la Cartuja.
  Sevilla
END:VEVENT
END:VCALENDAR
