BEGIN:VCALENDAR
PRODID:-//eluceo/ical//2.0/EN
VERSION:2.0
CALSCALE:GREGORIAN
BEGIN:VEVENT
UID:3aa04eaf-9ff5-42b4-a31c-765885f6b6ba
DTSTAMP:20260423T001902Z
SUMMARY:Clase abierta Master Profesional en Ingeniería y Gestión Medioamb
 iental (MPIGMA): “Agenda 21 Local”
URL:https://www.eoi.es/es/eventos/83278/clase-abierta-master-profesional-en
 -ingenieria-y-gestion-medioambiental-mpigma-agenda-21-local
DTSTART:20110524T173000Z
DTEND:20110524T200000Z
LOCATION:Campus EOI Sevilla. C/ Leonardo da Vinci\, 12. Isla de la Cartuja.
  41092 Sevilla
END:VEVENT
END:VCALENDAR
