BEGIN:VCALENDAR
PRODID:-//eluceo/ical//2.0/EN
VERSION:2.0
CALSCALE:GREGORIAN
BEGIN:VEVENT
UID:6c0f3a98-5d6c-4d22-b4d1-c07c30dee921
DTSTAMP:20260423T035620Z
SUMMARY:Conferencia 'La Nueva Empresa' (Zaragoza\, COIIAR)
URL:https://www.eoi.es/es/eventos/83228/conferencia-la-nueva-empresa-zarago
 za-coiiar
DTSTART:20110614T170000Z
DTEND:20110614T190000Z
LOCATION:Colegio Oficial de Ingenieros de Aragón y La Rioja (COIIAR) Calle
  Coso\, 31\, 3ª Pl. Zaragoza
END:VEVENT
END:VCALENDAR
