BEGIN:VCALENDAR
PRODID:-//eluceo/ical//2.0/EN
VERSION:2.0
CALSCALE:GREGORIAN
BEGIN:VEVENT
UID:ec9b6d08-ff62-4339-ba96-b49429de2adb
DTSTAMP:20260422T055649Z
SUMMARY:Sesión Informativa del Master Executive On Line en Gestión Integr
 al: Medio Ambiente\, Calidad y Riesgos Laborales (Videoconferencia)
URL:https://www.eoi.es/es/eventos/83209/sesion-informativa-del-master-execu
 tive-line-en-gestion-integral-medio-ambiente-calidad-y-riesgos-laborales-v
 ideoconferencia
DTSTART:20110621T170000Z
DTEND:20110621T183000Z
LOCATION:Videoconferencia
END:VEVENT
END:VCALENDAR
