BEGIN:VCALENDAR
PRODID:-//eluceo/ical//2.0/EN
VERSION:2.0
CALSCALE:GREGORIAN
BEGIN:VEVENT
UID:bc451253-6b12-4421-8b8b-4174d919368f
DTSTAMP:20260423T000718Z
SUMMARY:Triángulo Ciencia-Instituciones-Empresa\, ¿y ahora qué?
URL:https://www.eoi.es/es/eventos/83195/triangulo-ciencia-instituciones-emp
 resa-y-ahora-que
DTSTART:20110629T080000Z
DTEND:20110629T121500Z
LOCATION:Campus EOI Madrid. Avda. Gregorio del Amo\, 6. 28040 Madrid
END:VEVENT
END:VCALENDAR
