BEGIN:VCALENDAR
PRODID:-//eluceo/ical//2.0/EN
VERSION:2.0
CALSCALE:GREGORIAN
BEGIN:VEVENT
UID:2a49b672-c8cf-41c9-ae6c-88d98ea5655b
DTSTAMP:20260424T174206Z
SUMMARY:Sesión Informativa de los Programas Executive On Line y de Postgra
 do (Lima)
URL:https://www.eoi.es/es/eventos/83185/sesion-informativa-de-los-programas
 -executive-line-y-de-postgrado-lima
DTSTART:20110704T170000Z
DTEND:20110704T190000Z
LOCATION:Hotel Radisson Miraflores. Avenida 28 De Julio 151\, Miraflores Li
 ma 18\, Peru
END:VEVENT
END:VCALENDAR
