BEGIN:VCALENDAR
PRODID:-//eluceo/ical//2.0/EN
VERSION:2.0
CALSCALE:GREGORIAN
BEGIN:VEVENT
UID:a21c0d15-1ad5-451b-bae5-e5ce6536d7b9
DTSTAMP:20260423T001807Z
SUMMARY:Sesión Informativa de los Programas Executive On Line y de Postgra
 do (Bogotá)
URL:https://www.eoi.es/es/eventos/83169/sesion-informativa-de-los-programas
 -executive-line-y-de-postgrado-bogota
DTSTART:20110727T170000Z
DTEND:20110727T183000Z
LOCATION:EIN. Calle 104\, nº 18ª - 18. Bogotá
END:VEVENT
END:VCALENDAR
