BEGIN:VCALENDAR
PRODID:-//eluceo/ical//2.0/EN
VERSION:2.0
CALSCALE:GREGORIAN
BEGIN:VEVENT
UID:ab99697f-028e-4293-bbd5-7ac5ce2affc7
DTSTAMP:20260424T205534Z
SUMMARY:Presentación SIMO
URL:https://www.eoi.es/es/eventos/83138/presentacion-simo
DTSTART:20111004T070000Z
DTEND:20111006T190000Z
LOCATION:IFEMA. Feria de Madrid
END:VEVENT
END:VCALENDAR
