BEGIN:VCALENDAR
PRODID:-//eluceo/ical//2.0/EN
VERSION:2.0
CALSCALE:GREGORIAN
BEGIN:VEVENT
UID:74ab2b48-9c98-4e03-b863-db1a2f717abf
DTSTAMP:20260420T011645Z
SUMMARY:Encuentro Anual Antiguos Alumnos - Sevilla (Sede EOI Sevilla)
URL:https://www.eoi.es/es/eventos/83081/encuentro-anual-antiguos-alumnos-se
 villa-sede-eoi-sevilla
DTSTART:20111007T163000Z
DTEND:20111007T200000Z
LOCATION:Campus EOI Sevilla. C/ Leonardo da Vinci\, 12. Isla de la Cartuja.
  Sevilla
END:VEVENT
END:VCALENDAR
