BEGIN:VCALENDAR
PRODID:-//eluceo/ical//2.0/EN
VERSION:2.0
CALSCALE:GREGORIAN
BEGIN:VEVENT
UID:64d25ae8-c9fa-4953-86d9-e5c6b0697273
DTSTAMP:20260423T001902Z
SUMMARY:Agenda Digital para Europa - Acción Local\, España (Campus EOI Se
 villa)
URL:https://www.eoi.es/es/eventos/82986/agenda-digital-para-europa-accion-l
 ocal-espana-campus-eoi-sevilla
DTSTART:20111201T080000Z
DTEND:20111201T173000Z
LOCATION:Campus EOI Sevilla. C/ Leonardo da Vinci\, 12. Isla de la Cartuja.
  Sevilla
END:VEVENT
END:VCALENDAR
