BEGIN:VCALENDAR
PRODID:-//eluceo/ical//2.0/EN
VERSION:2.0
CALSCALE:GREGORIAN
BEGIN:VEVENT
UID:11086d19-2dc3-4f62-bd7c-3c42aa757d5e
DTSTAMP:20260420T011651Z
SUMMARY:Liderazgo Emocional (Campus EOI Sevilla)
URL:https://www.eoi.es/es/eventos/82805/liderazgo-emocional-campus-eoi-sevi
 lla
DTSTART:20120526T100000Z
DTEND:20120526T120000Z
LOCATION:Campus EOI Sevilla. C/ Leonardo da Vinci\, 12. Isla de la Cartuja.
  Sevilla
END:VEVENT
END:VCALENDAR
