BEGIN:VCALENDAR
PRODID:-//eluceo/ical//2.0/EN
VERSION:2.0
CALSCALE:GREGORIAN
BEGIN:VEVENT
UID:c5956fbc-ac31-46e5-94bf-1404c6ce0f21
DTSTAMP:20260419T132202Z
SUMMARY:Presentación del Libro ''Motivulario: ¡Bienvenido al Lenguaje de 
 la Motivación!'' (Campus EOI Sevilla)
URL:https://www.eoi.es/es/eventos/82768/presentacion-del-libro-motivulario-
 bienvenido-al-lenguaje-de-la-motivacion-campus-eoi-sevilla
DTSTART:20120619T180000Z
DTEND:20120619T190000Z
LOCATION:Campus EOI Sevilla. C/ Leonardo da Vinci\, 12. Isla de la Cartuja.
  Sevilla
END:VEVENT
END:VCALENDAR
