BEGIN:VCALENDAR
PRODID:-//eluceo/ical//2.0/EN
VERSION:2.0
CALSCALE:GREGORIAN
BEGIN:VEVENT
UID:431e5200-e0ef-4ce7-9fe5-fa292c49ebec
DTSTAMP:20260422T054421Z
SUMMARY:Sesión Informativa On Line: Master Executive en Gestión Integral:
  Medio Ambiente\, Calidad y Riesgos Laborales 
URL:https://www.eoi.es/es/eventos/82730/sesion-informativa-line-master-exec
 utive-en-gestion-integral-medio-ambiente-calidad-y-riesgos-laborales
DTSTART:20120731T150000Z
DTEND:20120731T160000Z
LOCATION:Campus EOI Madrid. Avda. Gregorio del Amo\, 6. 28040 Madrid
END:VEVENT
END:VCALENDAR
