BEGIN:VCALENDAR
PRODID:-//eluceo/ical//2.0/EN
VERSION:2.0
CALSCALE:GREGORIAN
BEGIN:VEVENT
UID:8dcf315c-f184-472a-a1fa-1ecdb974810f
DTSTAMP:20260422T055155Z
SUMMARY:Sesión Informativa On Line: Master Executive en Gestión Integral:
  Medio Ambiente\, Calidad y Riesgos Laborales 
URL:https://www.eoi.es/es/eventos/82729/sesion-informativa-line-master-exec
 utive-en-gestion-integral-medio-ambiente-calidad-y-riesgos-laborales
DTSTART:20120905T150000Z
DTEND:20120905T160000Z
LOCATION:Campus EOI Madrid. Avda. Gregorio del Amo\, 6. 28040 Madrid (onlin
 e)
END:VEVENT
END:VCALENDAR
