BEGIN:VCALENDAR
PRODID:-//eluceo/ical//2.0/EN
VERSION:2.0
CALSCALE:GREGORIAN
BEGIN:VEVENT
UID:901690c5-0e86-46f3-bb39-86d8ceb94d78
DTSTAMP:20260420T011645Z
SUMMARY:TEDxSevilla (Sede EOI Andalucía)
URL:https://www.eoi.es/es/eventos/82599/tedxsevilla-sede-eoi-andalucia
DTSTART:20130117T170000Z
DTEND:20130117T190000Z
LOCATION:Campus EOI Sevilla. C/ Leonardo da Vinci\, 12. Parque Científico 
 y Tecnológico Cartuja. Isla de la Cartuja. Sevilla
END:VEVENT
END:VCALENDAR
