BEGIN:VCALENDAR
PRODID:-//eluceo/ical//2.0/EN
VERSION:2.0
CALSCALE:GREGORIAN
BEGIN:VEVENT
UID:9febf4d3-899f-4f7e-92d9-6f9a92913f3d
DTSTAMP:20260423T001806Z
SUMMARY:Presentación Foro de Debate Club EOI -Discussion Forum Club EOI
URL:https://www.eoi.es/es/eventos/82534/presentacion-foro-de-debate-club-eo
 i-discussion-forum-club-eoi
DTSTART:20130425T170000Z
DTEND:20130425T190000Z
LOCATION:Campus EOI Madrid. Avda. Gregorio del Amo\, 6. 28040 Madrid
END:VEVENT
END:VCALENDAR
