BEGIN:VCALENDAR
PRODID:-//eluceo/ical//2.0/EN
VERSION:2.0
CALSCALE:GREGORIAN
BEGIN:VEVENT
UID:ca4ee445-bb1c-4e28-8713-0f55f07d7c2f
DTSTAMP:20260421T165723Z
SUMMARY:Cursos de Verano UIMP ''Smart Cities & Big Data'' (Universidad Inte
 rnacional Menéndez Pelayo\, Santander)
URL:https://www.eoi.es/es/eventos/82456/cursos-de-verano-uimp-smart-cities-
 big-data-universidad-internacional-menendez-pelayo-santander
DTSTART:20130708T080000Z
DTEND:20130710T080000Z
LOCATION:Universidad Internacional Menéndez Pelayo. Palacio de la Magdalen
 a. Santander
END:VEVENT
END:VCALENDAR
