BEGIN:VCALENDAR
PRODID:-//eluceo/ical//2.0/EN
VERSION:2.0
CALSCALE:GREGORIAN
BEGIN:VEVENT
UID:7dc97db5-459b-4496-abba-cce05962481a
DTSTAMP:20260423T154540Z
SUMMARY:Cómo utilizar el Crowdfunding para validar y financiar una idea de
  negocio
URL:https://www.eoi.es/es/eventos/82355/como-utilizar-el-crowdfunding-para-
 validar-y-financiar-una-idea-de-negocio
DTSTART:20140220T173000Z
DTEND:20140220T193000Z
LOCATION:Campus EOI Madrid. Avda. Gregorio del Amo\, 6. 28040 Madrid
END:VEVENT
END:VCALENDAR
