BEGIN:VCALENDAR
PRODID:-//eluceo/ical//2.0/EN
VERSION:2.0
CALSCALE:GREGORIAN
BEGIN:VEVENT
UID:48daf12a-d822-47ad-95bb-3e2134b4e042
DTSTAMP:20260422T171442Z
SUMMARY:La Eficiencia del Modelo Turístico Español (Sede EOI Andalucía)
URL:https://www.eoi.es/es/eventos/82205/la-eficiencia-del-modelo-turistico-
 espanol-sede-eoi-andalucia
DTSTART:20141118T180000Z
DTEND:20141118T190000Z
LOCATION:Campus EOI Sevilla. C/ Leonardo da Vinci\, 12. Parque Científico 
 y Tecnológico Cartuja. Isla de la Cartuja. Sevilla
END:VEVENT
END:VCALENDAR
